BEGIN:VCALENDAR
VERSION:2.0
PRODID:-//Faith Tabernacle Christian Church - ECPv6.15.20//NONSGML v1.0//EN
CALSCALE:GREGORIAN
METHOD:PUBLISH
X-WR-CALNAME:Faith Tabernacle Christian Church
X-ORIGINAL-URL:https://faithtabcc.org
X-WR-CALDESC:Events for Faith Tabernacle Christian Church
REFRESH-INTERVAL;VALUE=DURATION:PT1H
X-Robots-Tag:noindex
X-PUBLISHED-TTL:PT1H
BEGIN:VTIMEZONE
TZID:UTC
BEGIN:STANDARD
TZOFFSETFROM:+0000
TZOFFSETTO:+0000
TZNAME:UTC
DTSTART:20250101T000000
END:STANDARD
END:VTIMEZONE
BEGIN:VEVENT
DTSTART;TZID=UTC:20260429T050000
DTEND;TZID=UTC:20260429T060000
DTSTAMP:20260419T143652
CREATED:20260408T223035Z
LAST-MODIFIED:20260408T223601Z
UID:10007771-1777438800-1777442400@faithtabcc.org
SUMMARY:Daily 5 am prayer
DESCRIPTION:
URL:https://faithtabcc.org/event/daily-5-am-prayer-2-2/2026-04-29/
LOCATION:Faith Tabernacle Christian Church\, 3270 Fincher Rd\, Haltom City\,\, TX\, 76117\, United States
ATTACH;FMTTYPE=image/jpeg:https://faithtabcc.org/wp-content/uploads/2025/03/35467-prayerhands.1200w.tn_.jpg
ORGANIZER;CN="Pastor Jason White":MAILTO:info@faithtabcc.org
END:VEVENT
END:VCALENDAR