BEGIN:VCALENDAR
VERSION:2.0
PRODID:-//Faith Tabernacle Christian Church - ECPv6.15.20//NONSGML v1.0//EN
CALSCALE:GREGORIAN
METHOD:PUBLISH
X-WR-CALNAME:Faith Tabernacle Christian Church
X-ORIGINAL-URL:https://faithtabcc.org
X-WR-CALDESC:Events for Faith Tabernacle Christian Church
REFRESH-INTERVAL;VALUE=DURATION:PT1H
X-Robots-Tag:noindex
X-PUBLISHED-TTL:PT1H
BEGIN:VTIMEZONE
TZID:UTC
BEGIN:STANDARD
TZOFFSETFROM:+0000
TZOFFSETTO:+0000
TZNAME:UTC
DTSTART:20250101T000000
END:STANDARD
END:VTIMEZONE
BEGIN:VEVENT
DTSTART;TZID=UTC:20260408T080000
DTEND;TZID=UTC:20260408T170000
DTSTAMP:20260419T143423
CREATED:20260409T023913Z
LAST-MODIFIED:20260409T023913Z
UID:37372-1775635200-1775667600@faithtabcc.org
SUMMARY:Church Anniversary
DESCRIPTION:Faith Tabernacle Christian Church7th Anniversary Celebration \nCome join us as we celebrate 7 blessed years of God’s faithfulness\, love\, and grace.Let’s honor this special milestone together with joyful praise\, worship\, and thanksgiving. \nCome worship\, celebrate\, and fellowship with us!
URL:https://faithtabcc.org/event/church-anniversary/
END:VEVENT
END:VCALENDAR